BEGIN:VCALENDAR
VERSION:2.0
PRODID:-//The Alexandra School - ECPv6.15.13//NONSGML v1.0//EN
CALSCALE:GREGORIAN
METHOD:PUBLISH
X-ORIGINAL-URL:https://alexandraschoolbb.org
X-WR-CALDESC:Events for The Alexandra School
REFRESH-INTERVAL;VALUE=DURATION:PT1H
X-Robots-Tag:noindex
X-PUBLISHED-TTL:PT1H
BEGIN:VTIMEZONE
TZID:America/Barbados
BEGIN:STANDARD
TZOFFSETFROM:-0400
TZOFFSETTO:-0400
TZNAME:AST
DTSTART:20190101T000000
END:STANDARD
END:VTIMEZONE
BEGIN:VEVENT
DTSTART;TZID=America/Barbados:20201010T160000
DTEND;TZID=America/Barbados:20201010T160000
DTSTAMP:20260424T003818
CREATED:20201006T083750Z
LAST-MODIFIED:20201006T083931Z
UID:908-1602345600-1602345600@alexandraschoolbb.org
SUMMARY:Alexandra School Alumni Association AGM
DESCRIPTION:The Annual General Meeting (AGM) of the Alexandra School Alumni Association will be held on Saturday\, October 10th\, 2020 at 4:00 p.m. at the Alexandra School.\nThe meeting will be used to elect a New Executive. If you are desirous of being involved in the process\, giving back to your alma mater and your community\, then we are all encouraged to participate in the meeting. \nWe are looking to seeing you in your numbers at this meeting.
URL:https://alexandraschoolbb.org/event/alexandra-school-alumni-association-agm/
LOCATION:The Alexandra School\, Queen's Street\, Speightstown\, St.Peter\, Barbados
CATEGORIES:Alumni
ATTACH;FMTTYPE=image/png:https://alexandraschoolbb.org/wp-content/uploads/AOSA-AGM.png
END:VEVENT
BEGIN:VEVENT
DTSTART;TZID=America/Barbados:20200924T193000
DTEND;TZID=America/Barbados:20200924T193000
DTSTAMP:20260424T003818
CREATED:20200918T201230Z
LAST-MODIFIED:20200918T201230Z
UID:902-1600975800-1600975800@alexandraschoolbb.org
SUMMARY:Founder's Week: COVID-19 Impact - Virtual Discussion
DESCRIPTION:Virtual Discussion on ‘The Impact of the COVID-19 Pandemic on Student Achievement via Zoom
URL:https://alexandraschoolbb.org/event/founders-week-covid-19-impact-virtual-discussion/
CATEGORIES:Alumni
END:VEVENT
BEGIN:VEVENT
DTSTART;TZID=America/Barbados:20200920T080000
DTEND;TZID=America/Barbados:20200920T080000
DTSTAMP:20260424T003818
CREATED:20200918T200818Z
LAST-MODIFIED:20200918T200818Z
UID:899-1600588800-1600588800@alexandraschoolbb.org
SUMMARY:Founder's Week: Church Service
DESCRIPTION:Church Service at White Hall Methodist Church\, 8:00 a.m. (Rev. Arlette Waterman\, former AX-er)
URL:https://alexandraschoolbb.org/event/founders-week-church-service/
CATEGORIES:Alumni
END:VEVENT
END:VCALENDAR